Workbook

Sheet 共通項目入力用
E1: 【笠間市】
A2: 共通項目入力用シート［令和9・10年度 一般競争（指名競争）参加資格審査申請用］
A4: 下記の項目（黄色セル）を入力することで、共通の内容が各申請様式に複写されます。
A5: 様式により、下記以外の内容の入力が必要な場合がありますので、必ず全てのシートを確認してください。
A6: このシートの提出は不要です。
A8: 基本情報
B9: 入力項目 | D9: 入力欄 | E9: 備考
A10: 1 | B10: 申請年月日 | E10: 「11/11」等、日付を入力すれば和暦で表示されます。 受付期間中（11/11～12/11）の日付としてください。
A11: 2 | B11: 商号または名称 | C11: フリガナ | E11: 「カブシキガイシャ」等、法人区分については入力不要です。
E12: 「（株）」「（有）」等、法人区分は略記し、記号も含め全角で入力してください。
A13: 3 | B13: 本社（店）所在地 | C13: 郵便番号
C14: フリガナ
E15: 「丁目」「番地」等は省略し、「－」を入力してください。
A16: 4 | B16: 代表者職氏名 | C16: 役職 | E16: 個人の場合は「代表」と入力してください。
C17: 氏名フリガナ
C18: 氏名 | E18: 氏と名の間に、全角で１字スペース（空白）を入れてください。
A19: 5 | B19: 本社（店）電話番号
A20: 6 | B20: 本社（店）ファックス番号 | E20: ファックス番号を有しない場合は「なし」と入力してください。
A21: 7 | B21: 本社（店）メールアドレス | E21: メールアドレスを有しない場合は「なし」と入力してください。
A22: 8 | B22: 直前2か年の 年間平均実績高 | E22: 単位：千円 申請業種以外も含む、すべての売り上げ金額を入力してください。
A23: 9 | B23: 資本金 | E23: 単位：千円 履歴事項全部証明書の金額を入力してください。
A24: 10 | B24: 自己資本額 | E24: 単位：千円
A25: 11 | B25: 職員数 | E25: 代表者も含めた人数を入力してください。
A26: 12 | B26: 営業年数
A28: 申請担当者情報
B29: 入力項目 | D29: 入力欄 | E29: 備考
A30: 13 | B30: 本件責任者氏名 | C30: 氏名フリガナ | E30: 申請された内容について、名簿登載期間中に笠間市より問い合わせ等を行う場合の連絡先であり、必ずしも組織の代表者等である必要はありません。 また、担当者が本件責任者を兼ねる場合は、同一の方でも差し支えありません。
C31: 氏名
B32: 本件責任者電話番号
A33: 14 | B33: 担当者氏名 | C33: 氏名フリガナ | E33: 行政書士等が申請を代理で行う場合も、こちらには事業者内における担当者について入力してください。
C34: 氏名
B35: 担当者電話番号
A37: ※下記の項目15は、行政書士等に申請を委任する場合のみ入力してください。
A38: 申請代理人情報
B39: 入力項目 | D39: 入力欄 | E39: 備考
A40: 15 | B40: 申請代理人住所 | C40: 郵便番号
E41: 事業所の場合は所在地を入力してください。
B42: 申請代理人氏名
B43: 申請代理人電話番号
A45: ※下記の項目16～21は、入札・契約等の権限を委任する代理人（支店長・営業所長等）を置く場合のみ入力してください。
A46: 営業所等情報
B47: 入力項目 | D47: 入力欄 | E47: 備考
A48: 16 | B48: 営業所等名称
A49: 17 | B49: 営業所等所在地 | C49: 郵便番号
C50: フリガナ
E51: 「丁目」「番地」等は省略し、「－」を入力してください。
A52: 18 | B52: 受任者職氏名 | C52: 役職
C53: 氏名フリガナ
C54: 氏名 | E54: 氏と名の間に、全角で１字スペース（空白）を入れてください。
A55: 19 | B55: 営業所等電話番号
A56: 20 | B56: 営業所等ファックス番号 | E56: ファックス番号を有しない場合は「なし」と入力してください。
A57: 21 | B57: 営業所等メールアドレス | E57: メールアドレスを有しない場合は「なし」と入力してください。

Sheet 様式第3号
A1: ※電子申請の場合は提出不要です。
BM2: ホッチキス留め
A3: 様式第３号
A5: ※ ０１ | C5: １ | D5: 新規 | F5: ※02受付番号 | U5: ※03業者コード | AP5: ※申請者 | AY5: ※ | BA5: 適格組 | BE5: 令和 年 月 日
C6: ２ | D6: 更新 | AP6: 04の規模 | AY6: 05 | BA6: 合証明 | BE6: 第 号
A8: 一般競争 （指名競争） 参加資格審査申請書 | AS8: （物品販売 ・ 役務の提供等）
B10: 令和９・１０年度において、笠間市で行われる物品販売及び役務の提供等に係る競争に参加する資格の審査を申請します。
B11: なお、この申請書及び添付書類の内容については、事実と相違しないことを誓約します。
D12: =IF(共通項目入力用!D10="","令和 年 月 日",共通項目入力用!D10) -> 令和 年 月 日
M13: 笠間市長 | T13: 様
A15: 06 | C15: 本社(店)郵便番号 | H15: =共通項目入力用!D13 -> 0
A17: 07 | C17: フリガナ | H17: =共通項目入力用!D14 -> 0
C18: 本社（店）住所 | H18: =共通項目入力用!D15 -> 0
A20: 08 | C20: フリガナ | H20: =共通項目入力用!D11 -> 0
C21: 商号又は名称 | H21: =共通項目入力用!D12 -> 0
A23: 09 | C23: フリガナ | AH23: =共通項目入力用!D17 -> 0
C24: 代表者氏名 | H24: （役職） | L24: =共通項目入力用!D16 -> 0 | AD24: （氏名） | AH24: =共通項目入力用!D18 -> 0
A26: 10 | C26: フリガナ | H26: =共通項目入力用!D33 -> 0 | AF26: 11 | AG26: メールアドレス | AN26: =共通項目入力用!D21 -> 0
C27: 申請担当者氏名 | H27: =共通項目入力用!D34 -> 0
C29: 申請担当者電話番号 | H29: =共通項目入力用!D35 -> 0
A31: 12 | C31: 本社(店)電話番号 | H31: =共通項目入力用!D19 -> 0
A33: 13 | C33: 本社(店)FAX番号 | H33: =共通項目入力用!D20 -> 0
A35: （代理申請時使用欄）※行政書士等に申請を委任する場合に記載すること。
A36: 14 | C36: 申請代理人 | H36: 申請代理人郵便番号 | R36: =共通項目入力用!D40 -> 0 | AI36: 申請代理人電話番号 | AS36: =共通項目入力用!D43 -> 0
H38: 申請代理人住所 | R38: =共通項目入力用!D41 -> 0
H40: 申請代理人氏名 | R40: =共通項目入力用!D42 -> 0
A42: 15 | C42: 希望する業種 | K42: ※（入札参加資格審査入力票（物品販売・役務の提供等）より確認します。）
A44: 16 | C44: 希望する営業品目等 | K44: ※（入札参加資格審査入力票（物品販売・役務の提供等）より確認します。）
C47: （１） ※欄については、記載しないこと。
C48: （２）『電話番号』及び『ＦＡＸ番号』は、市外局番、市内局番、番号を「－」で区切ること。

Sheet 様式第3号-2
A1: ※申請方法に関わらず、必ず提出してください。
A2: ※電子申請の場合はPDF形式に変換して提出してください。
A3: 様式第３号－２
AD4: 元請
AD5: 下請
A6: （ 物品等の販売 ・ 役務の提供等 ） | L6: 業務実績調書
A8: 注 文 者 | G8: 元請又は | I8: 件 名 | P8: 業務履行場所のある | Q8: 請負代金の額 | R8: 着 手 年 月
G9: 下請の別 | P9: 都道府県及び市区町村名 | Q9: （千円) | R9: 完成又は完成予定年月
R10: 令和 | T10: 年 | V10: 月
R11: 令和 | T11: 年 | V11: 月
R12: 令和 | T12: 年 | V12: 月
R13: 令和 | T13: 年 | V13: 月
R14: 令和 | T14: 年 | V14: 月
R15: 令和 | T15: 年 | V15: 月
R16: 令和 | T16: 年 | V16: 月
R17: 令和 | T17: 年 | V17: 月
R18: 令和 | T18: 年 | V18: 月
R19: 令和 | T19: 年 | V19: 月
R20: 令和 | T20: 年 | V20: 月
R21: 令和 | T21: 年 | V21: 月
... R33: 令和 | T33: 年 | V33: 月
A35: 記載要領
A36: １． 本表は、申請をする業種ごと（物品の販売又は役務の提供等）に作成すること。（公共事業、民間事業問わず記入）
A37: ２． 直前２年間の主な業務（完成済 又は完成予定のもの）について記載すること。（笠間市が指名する際の業務実績として参考にするものです）
A38: ３． 下請については、「注文者｣ の欄には元請業者名を記載し、「件名」 の欄には下請件名を記載すること。
A39: ４． 「請負代金の額｣について は、消費税込みの金額を記載すること。
A40: ５． 本表の欄が不足する場合には、複数枚に分け記載すること。
A41: ６． 本様式の内容を満たしているものであれば、別の様式にて代替できるものとする。

Sheet 様式第3号-3 
A1: ※電子申請の場合は提出不要です。
A2: ※紙申請の場合は、２、３ページ目に申請業種及び業務内容の記載欄がありますので、必ず入力してください。
B3: 様式第３号－３
U4: 入札参加資格審査入力票 （物品販売・役務の提供等） | CA4: （ | CC4: １ | CE4: ／ | CG4: ３ | CI4: ）
BZ5: 笠間市
D7: 事業者コード
D9: ※上記は契約検査室記載欄のため記載しないこと。
B13: 《本店情報》 | S13: （必ず記載すること。）
D15: （フリガナ） 商号又は名称 | P15: =共通項目入力用!D11 -> 0
P16: =共通項目入力用!D12 -> 0
D18: 代表者職名 | P18: =共通項目入力用!D16 -> 0
D20: （フリガナ） 代表者氏名 | P20: =共通項目入力用!D17 -> 0
P21: =共通項目入力用!D18 -> 0
D23: 本店所在地 | P23: 郵便番号 | X23: =共通項目入力用!D13 -> 0
P25: 住 所 | X25: =様式第3号!H18 -> 0
D27: 電話番号 | P27: =様式第3号!H31 -> 0 | AN27: ＦＡＸ番号 | AZ27: =様式第3号!H33 -> 0
D29: メールアドレス | P29: =様式第3号!AN26 -> 0
D31: その他 | P31: 直前2か年の年間平均実績高(千円) | AJ31: 資本金 (千円) | BB31: 自己資本額 (千円) | BT31: 職員数 | CD31: 営業年数
P32: =共通項目入力用!D22 -> 0 | AJ32: =共通項目入力用!D23 -> 0 | BB32: =共通項目入力用!D24 -> 0 | BT32: =共通項目入力用!D25 -> 0 | CD32: =共通項目入力用!D26 -> 0
P34: ※「実績高」とは、すべての売り上げ金額を指す。（申請業種以外も含む） | BT34: ※「職員数」は、代表者も含む。
P35: ※「資本金」は、履歴事項全部証明書の金額を記入。
B38: 《代理人情報》 | S38: （入札（見積）・契約行為を委任する代理人（支店長・営業所長等）を置く場合に記載すること。）
D40: 支店又は 営業所等名 | P40: =共通項目入力用!D48 -> 0
D42: 代理人職名 | P42: =共通項目入力用!D52 -> 0
D44: （フリガナ） 代理人氏名 | P44: =共通項目入力用!D53 -> 0
P45: =共通項目入力用!D54 -> 0
D47: 代理人所在地 | P47: 郵便番号 | X47: =共通項目入力用!D49 -> 0
P49: 住 所 | X49: =共通項目入力用!D51 -> 0
D51: 電話番号 | P51: =共通項目入力用!D55 -> 0 | AN51: ＦＡＸ番号 | AZ51: =共通項目入力用!D56 -> 0
D53: メールアドレス | P53: =共通項目入力用!D57 -> 0
B57: 《記入方法》
C59: 『商号又は名称』は、略号を用いて記入すること。ただし、「（フリガナ）」には法人を表す略号は記入しないこと。
C60: 『本店所在地』及び『代理人所在地』は、大字・字の文字は記入しないこと。また、丁目・番・号は省略し、「－」を用いること。
C61: 『電話番号』及び『ＦＡＸ番号』は、市外局番、市内局番、番号を「－」で区切ること。
D63: 事業者コード | P63: =P7 -> 0 | AR63: 本用紙に該当が無い場合にも未記入で添付してください。
A66: 《申請業種》 | CA66: （ | CC66: ２ | CE66: ／ | CG66: ３ | CI66: ）
A68: ＊申請を希望する業種には、下表の『申請業種』の欄に○を記入してください。
A69: ＊許認可等が必要とされる業種には「要項p.5～6」を参照のうえ『許認可の有』の欄に○を記入し、許可書等の写しを添付してください。
A70: ＊各申請業種における具体的な取扱内容を、『業務内容』の欄に記入してください。
A72: 業種区分 | AS72: 申請 業種 | AZ72: 許認可の有 | BG72: 業務内容（必ず記入） 記号等を含め最大２５文字まで
A73: 物品等の 販売 （卸売・小売） または製造 または修繕 | L73: 1 | O73: 建設・建築資材 （二次製品を含む） | CQ73: =IF(AS73="〇","「業務内容」欄の記入をお願いします。","")
L74: 2 | O74: 農業・化学・工業薬品 | CQ74: =IF(AS74="〇","「業務内容」欄の記入をお願いします。","")
L75: 3 | O75: 医療品、医薬品、毒物、劇物 | CQ75: =IF(AS75="〇","「業務内容」欄の記入をお願いします。","")
L76: 4 | O76: 印刷製本 | CQ76: =IF(AS76="〇","「業務内容」欄の記入をお願いします。","")
L77: 5 | O77: 事務機器用品 | CQ77: =IF(AS77="〇","「業務内容」欄の記入をお願いします。","")
L78: 6 | O78: 学校備品、学校教材、 図書、視聴覚資料 | CQ78: =IF(AS78="〇","「業務内容」欄の記入をお願いします。","")
L79: 7 | O79: 楽器、スポーツ用品、 室内外遊具・玩具 | CQ79: =IF(AS79="〇","「業務内容」欄の記入をお願いします。","")
L80: 8 | O80: 家具、寝具、 室内装飾品、什器類 | CQ80: =IF(AS80="〇","「業務内容」欄の記入をお願いします。","")
L81: 9 | O81: 繊維・皮革製品 | CQ81: =IF(AS81="〇","「業務内容」欄の記入をお願いします。","")
L82: 10 | O82: 紙・袋製品 | CQ82: =IF(AS82="〇","「業務内容」欄の記入をお願いします。","")
L83: 11 | O83: 燃料、潤滑油、油脂類 | CQ83: =IF(AS83="〇","「業務内容」欄の記入をお願いします。","")
L84: 12 | O84: 車両、船舶等（消防車両を除く） | CQ84: =IF(AS84="〇","「業務内容」欄の記入をお願いします。","")
L85: 13 | O85: 試験・測定・観測機器用品 | CQ85: =IF(AS85="〇","「業務内容」欄の記入をお願いします。","")
... L93: 21 | O93: その他の販売 | CQ93: =IF(AS93="〇","「業務内容」欄の記入をお願いします。","")
A94: 役務の提供 | L94: 22 | O94: 集計、計算、調査、計画策定 | CQ94: =IF(AS94="〇","「業務内容」欄の記入をお願いします。","")
L95: 23 | O95: 試験、測定、観測 | CQ95: =IF(AS95="〇","「業務内容」欄の記入をお願いします。","")
L96: 24 | O96: 写真・製図・複写・地図の撮影作成 | CQ96: =IF(AS96="〇","「業務内容」欄の記入をお願いします。","")
L97: 25 | O97: 映画・ビデオ・広告・看板の 企画制作 | CQ97: =IF(AS97="〇","「業務内容」欄の記入をお願いします。","")
D99: 事業者コード | P99: =P7 -> 0 | AR99: 本用紙に該当が無い場合にも未記入で添付してください。
A102: 《申請業種》 | CA102: （ | CC102: ３ | CE102: ／ | CG102: ３ | CI102: ）
A104: ＊申請を希望する業種には、下表の『申請業種』の欄に○を記入。
A105: ＊許認可等が必要とされる業種には「要項p.5～6」を参照のうえ『許認可の有』の欄に○を記入し、許可書等の写しを添付してください。
A106: ＊各申請業種における具体的な取扱内容を、『業務内容』の欄に記入してください。
A108: 業種区分 | AS108: 申請 業種 | AZ108: 許認可の有 | BG108: 業務内容（必ず記入） 記号等を含め最大２５文字まで
A109: 役務の提供 | L109: 26 | O109: 催事の企画運営、旅行企画 | CQ109: =IF(AS109="〇","「業務内容」欄の記入をお願いします。","")
L110: 27 | O110: 警備 | CQ110: =IF(AS110="〇","「業務内容」欄の記入をお願いします。","")
L111: 28 | O111: 車検 | CQ111: =IF(AS111="〇","「業務内容」欄の記入をお願いします。","")
L112: 29 | O112: 運送、運輸 （廃棄物収集運搬を除く） | CQ112: =IF(AS112="〇","「業務内容」欄の記入をお願いします。","")
L113: 30 | O113: 廃棄物収集運搬処理 | CQ113: =IF(AS113="〇","「業務内容」欄の記入をお願いします。","")
L114: 31 | O114: 植栽・公園管理 | CQ114: =IF(AS114="〇","「業務内容」欄の記入をお願いします。","")
L115: 32 | O115: 体育施設管理監視 | CQ115: =IF(AS115="〇","「業務内容」欄の記入をお願いします。","")
L116: 33 | O116: 上下水道施設の維持管理 | CQ116: =IF(AS116="〇","「業務内容」欄の記入をお願いします。","")
L117: 34 | O117: 上下水道設備の保守点検 | CQ117: =IF(AS117="〇","「業務内容」欄の記入をお願いします。","")
L118: 35 | O118: 情報処理、情報提供サービス、 情報機器等の保守点検 | CQ118: =IF(AS118="〇","「業務内容」欄の記入をお願いします。","")
L119: 36 | O119: 電気・通信・視聴覚設備の 保守点検 | CQ119: =IF(AS119="〇","「業務内容」欄の記入をお願いします。","")
L120: 37 | O120: 電気工作物の保安管理 | CQ120: =IF(AS120="〇","「業務内容」欄の記入をお願いします。","")
L121: 38 | O121: 空調・消防・ボイラー設備の 保守点検 | CQ121: =IF(AS121="〇","「業務内容」欄の記入をお願いします。","")
... L130: 47 | O130: その他役務の提供 | CQ130: =IF(AS130="〇","「業務内容」欄の記入をお願いします。","")
A131: 賃貸借 | L131: 48 | O131: 賃貸借 | CQ131: =IF(AS131="〇","「業務内容」欄の記入をお願いします。","")
A132: 派遣 | L132: 49 | O132: 労働者派遣 | CQ132: =IF(AS132="〇","「業務内容」欄の記入をお願いします。","")
L133: 50 | O133: 研修講師・指導員・技術者の派遣 | CQ133: =IF(AS133="〇","「業務内容」欄の記入をお願いします。","")
A134: 買受け | L134: 51 | O134: 物品等の買受 | CQ134: =IF(AS134="〇","「業務内容」欄の記入をお願いします。","")

Sheet 様式3号-4
A1: ※本様式は、ページ下部に記載した権限を委任する代理人（支店長・営業所長等）を置く場合に提出してください。
A2: ※電子申請の場合はPDF形式に変換して提出してください。
A3: ※押印不要様式です。「本件責任者・担当者」欄を必ず記載してください（詳細については要項P.4参照）。
B4: 様式第３号－４ | AB4: 本件責任者：氏名 | AT4: =共通項目入力用!D31 -> 0 | BI4: 連絡先 | BR4: =共通項目入力用!D32 -> 0
AB6: 担当者：氏名 | AT6: =共通項目入力用!D34 -> 0 | BI6: 連絡先 | BR6: =共通項目入力用!D35 -> 0
BP9: =IF(共通項目入力用!D10="","令和 年 月 日",共通項目入力用!D10) -> 令和 年 月 日
AU11: 年 間 委 任 状
E13: 笠間市長 山口 伸樹 様
W16: （委 任 者） | AL16: 住 所 | BA16: =共通項目入力用!D15 -> 0
AL19: 商号又は名称 | BA19: =共通項目入力用!D12 -> 0
AM22: （フリガナ） | BN22: =共通項目入力用!D17 -> 0
AL23: 代表者 職氏名 | BA23: =共通項目入力用!D16 -> 0 | BN23: =共通項目入力用!D18 -> 0
F27: 私は、次の者を代理人と定め、令和９年４月１日から 令和１１年３月３１日までの期間、下記の権限を委任します。
W31: （受 任 者） | AL31: 郵 便 番 号 | BA31: =共通項目入力用!D49 -> 0
AL33: 住 所 | BA33: =共通項目入力用!D51 -> 0
AL36: 支店又は 営業所等名 | BA36: =共通項目入力用!D48 -> 0
AL39: （フリガナ） | BU39: =共通項目入力用!D53 -> 0
AL40: 代理人 職氏名 | BA40: =共通項目入力用!D52 -> 0 | BU40: =共通項目入力用!D54 -> 0 | BV40: =#REF! -> #REF! | BW40: =#REF! -> #REF! | BX40: =#REF! -> #REF! | BY40: =#REF! -> #REF! | BZ40: =#REF! -> #REF! | CA40: =#REF! -> #REF! | CB40: =#REF! -> #REF! | CC40: =#REF! -> #REF! | ... CN40: =#REF! -> #REF!
BU41: =#REF! -> #REF! | BV41: =#REF! -> #REF! | BW41: =#REF! -> #REF! | BX41: =#REF! -> #REF! | BY41: =#REF! -> #REF! | BZ41: =#REF! -> #REF! | CA41: =#REF! -> #REF! | CB41: =#REF! -> #REF! | ... CN41: =#REF! -> #REF!
AL43: 電 話 番 号 | BA43: =共通項目入力用!D55 -> 0
AL45: Ｆ Ａ Ｘ 番 号 | BA45: =共通項目入力用!D56 -> 0
AU50: 記
E53: １．入札及び見積に関する一切の権限
E54: ２．契約の締結に関する一切の権限
E55: ３．契約の履行に関する一切の権限
E56: ４．代金の請求及び受領に関する一切の権限
E57: ５．復代理人選定に関する一切の権限
E58: ６．共同企業体結成に関する一切の権限

Sheet 様式3号-5
A1: ※電子申請の場合はPDF形式に変換して提出してください。
A2: ※押印不要様式です。「本件責任者・担当者」欄を必ず記載してください（詳細については要項P.4参照）。
B3: 様式第３号－５ | AB3: 本件責任者：氏名 | AT3: =共通項目入力用!D31 -> 0 | BI3: 連絡先 | BR3: =共通項目入力用!D32 -> 0
AB5: 担当者：氏名 | AT5: =共通項目入力用!D34 -> 0 | BI5: 連絡先 | BR5: =共通項目入力用!D35 -> 0
B10: ※ | D10: 調査同意書は、以下のいずれかにあてはまる場合、提出してください。
D11: ①笠間市内に本店または契約を委任する支店・営業所がある。
D12: ②市外業者で笠間市に納税義務がある。
V18: 課税及び納税状況等調査同意書
D22: 笠間市長 山口 伸樹 様
E25: 私は、笠間市の競争入札参加資格者として登録されている期間中、市が競争入札参加資格の確認を行うに当たり必要があるときは、市が取り扱う市税等に係る課税・納税状況について調査することに同意します。 また、市が税務署等に依頼して課税・納税状況を調査することについても、併せて同意します。
I42: =IF(共通項目入力用!D10="","令和 年 月 日",共通項目入力用!D10) -> 令和 年 月 日
AV48: =共通項目入力用!D15 -> 0
AH49: 住 所
AV51: =共通項目入力用!D12 -> 0
AH52: 商号又は名称
AV54: =共通項目入力用!D16 -> 0 | BO54: =共通項目入力用!D18 -> 0
AH55: 代表者職氏名

Sheet 様式3号-6
A1: ※申請方法に関わらず、必ず提出してください。
A2: ※電子申請の場合はPDF形式に変換して提出してください。
A3: ※押印不要様式です。「本件責任者・担当者」欄を必ず記載してください（詳細については要項P.4参照）。
B4: 様式第３号－６ | AB4: 本件責任者：氏名 | AT4: =共通項目入力用!D31 -> 0 | BI4: 連絡先 | BR4: =共通項目入力用!D32 -> 0
AB6: 担当者：氏名 | AT6: =共通項目入力用!D34 -> 0 | BI6: 連絡先 | BR6: =共通項目入力用!D35 -> 0
V16: 誓 約 書
D20: 笠間市長 山口 伸樹 様
E24: 私は、私および役員等（役員として登記又は届出がされていないが、事実上経営に参画している者を含む）が、暴力団員又は暴力団若しくは暴力団員と社会的に非難されるべき関係を有する者に該当しないことを誓約します。 また、その確認のため、警察等関係機関あて、照会を受けることに同意いたします。
I41: =IF(共通項目入力用!D10="","令和 年 月 日",共通項目入力用!D10) -> 令和 年 月 日
AV47: =共通項目入力用!D15 -> 0
AH48: 住 所
AV50: =共通項目入力用!D12 -> 0
AH51: 商号又は名称
AV53: =共通項目入力用!D16 -> 0 | BO53: =共通項目入力用!D18 -> 0
AH54: 代表者職氏名

Sheet 確認表
A1: ※電子申請の場合は提出不要です。
A2: 笠間市一般競争（指名競争）参加資格審査申請書類確認表 | O2: 有
F3: 商号または名称 | G3: =共通項目入力用!D12 -> 0 | O3: 無
F4: 担当者氏名 （様式第３号の申請担当者と同一者を記入） | G4: =共通項目入力用!D34 -> 0
F5: 担当者電話番号 | G5: =共通項目入力用!D35 -> 0
A6: ＊【紙申請の場合】提出書類は「綴込み順」のとおりに（『１．一般競争（指名競争）参加資格審査申請書』が一番上となるように）まとめてホッチキス等で綴じること。
A7: 綴込み順 | B7: 提出書類 | E7: 様式 | F7: 提出条件 | G7: 備考 | H7: 申請者 確認欄 | I7: 笠間市 確認欄
A8: 1 | B8: 一般競争（指名競争） 参加資格審査申請書 | E8: 様式第３号 | F8: 必須
A9: 2 | B9: 業務実績調書 | E9: 様式第３号－２ | F9: 必須
A10: 3 | B10: 履歴事項全部証明書 | F10: 法人の場合のみ | G10: 申請日前３ヵ月以内に発行されたもの。（コピー可） | J10: ホ
B11: 身分証明書 | F11: 個人の場合のみ | G11: 本籍地市区町村の窓口で発行する『身分証明書』に限る。 申請日前３ヵ月以内に発行されたもの。（コピー可） | J11: ッ
A12: 4 | B12: 許認可等証明書のコピー | F12: 業種により必須 | G12: 「業務内容例及び許認可等証明書例」（要項p.5～6）参照 | J12: チ
A13: 5 | B13: 納税証明書 | C13: 法人 | D13: 国税 | E13: 書式その３の３ | F13: 法人の場合のみ | G13: 申請日前３ヵ月以内に発行されたもの。（コピー可） | J13: キ
D14: 県税 | E14: 様式第４０号の４（ア） 「未納がないことの証明等」 | F14: 法人で、茨城県に納税義務がある 場合のみ | J14: ス
D15: 市税 | E15: 未納のない証明 | F15: 法人で、笠間市に納税義務がある 場合のみ | J15: 止
C16: 個人 | D16: 国税 | E16: 書式その３の２ | F16: 個人の場合のみ | J16: め
D17: 県税 | E17: 様式第４０号の４（ア） 「未納がないことの証明等」 | F17: 個人で、茨城県に納税義務がある 場合のみ
D18: 市税 | E18: 未納のない証明 | F18: 個人で、笠間市に納税義務がある 場合のみ
A19: ＊【紙申請の場合】下記６～１１の提出書類はクリップで１つにまとめること。
A20: 綴込み順 | B20: 提出書類 | E20: 様式 | F20: 提出条件 | G20: 備考 | H20: 申請者 確認欄 | I20: 笠間市 確認欄
A21: 6 | B21: 入力票 | E21: 様式第３号－３ （1/3～3/3） | F21: 必須 | G21: 申請業種の有無に関わらず全ページを提出すること。 | J21: ク
A22: 7 | B22: 年間委任状 | E22: 様式第３号－４ | F22: 入札・契約行為を営業所長等に 委任する場合のみ | J22: リ
A23: 8 | B23: 課税及び納税状況等 調査同意書 | E23: 様式第３号－５ | F23: 以下の場合は必須 ①市内に本店または契約を委任する 営業所等がある場合 ②市外業者で笠間市に納税義務が ある場合 | J23: ッ プ
A24: 9 | B24: 誓約書 | E24: 様式第３号－６ | F24: 必須 | J24: 止
A25: 11 | B25: 申請書類確認表 | F25: 必須 | J25: め

Sheet Sheet1
