Workbook

Sheet 表紙
A3: 社 会 福 祉 法 人 一 般 検 査 資 料
A5: =+P20 -> ＿＿年度
C7: （フリガナ） 社会福祉法人の名称
C9: （フリガナ） 法人代表者の氏名
E11: 就任（変更又は重任を含む）登記年月日 | I11: 平成・令和 年 月 日
C12: 法人事務所所在地 及び電話番号等 | E12: 〒 －
G14: TEL
G15: FAX
G16: ﾒｰﾙｱﾄﾞﾚｽ
C17: 作成基準日 | P17: =+IF(ISBLANK(E17),"検査日の前々月の1日",TEXT(E17,"ggge年m月d日")) -> 検査日の前々月の1日 | Q17: =+IF(ISBLANK(E17),"検査日の前々月",TEXT(E17,"ggge年m月")) -> 検査日の前々月
B18: 〔資料作成にあたっての留意事項〕 １．まずはじめに、表紙の「作成基準日」に日付を入力すること。 （特に指定のない限り、検査の前々月１日が作成基準日となる。） ２．記載事項が欄に収まらない場合等は、様式を適宜追加、加工すること。
P19: =IF(ISERROR(EDATE($E$17,-15)),"＿＿年度",TEXT(EDATE($E$17,-15),"ggge"&"年度")) -> ＿＿年度 | Q19: =IF(ISERROR(EDATE($E$17,-15)),"＿＿年",TEXT(EDATE($E$17,-15),"ggge"&"年")) -> ＿＿年 | R19: =IF(ISERROR(EDATE($E$17,-15)),"前年度",TEXT(EDATE($E$17,-15),"ggge"&"年度")) -> 前年度
P20: =IF(ISERROR(EDATE($E$17,-3)),"＿＿年度",TEXT(EDATE($E$17,-3),"ggge"&"年度")) -> ＿＿年度 | Q20: =IF(ISERROR(EDATE($E$17,-3)),"＿＿年",TEXT(EDATE($E$17,-3),"ggge"&"年")) -> ＿＿年 | R20: =IF(ISERROR(EDATE($E$17,-3)),"当年度",TEXT(EDATE($E$17,-3),"ggge"&"年度")) -> 当年度
P21: =IF(ISERROR(EDATE($E$17,-27)),"＿＿年度",TEXT(EDATE($E$17,-27),"ggge"&"年度")) -> ＿＿年度 | R21: =IF(ISERROR(EDATE($E$17,-27)),"前々年度",TEXT(EDATE($E$17,-27),"ggge"&"年度")) -> 前々年度

Sheet 目次
A2: １ | B2: 法人の概要 ------------------------------------------------------------------------------------------------------------ | C2: １
A3: ２ | B3: 法人の行う事業 -------------------------------------------------------------------------------------------------------- | C3: １
A4: ３ | B4: 資産(土地)の状況 ------------------------------------------------------------------------------------------------------ | C4: ２
B5: 資産(建物)の状況 ------------------------------------------------------------------------------------------------------ | C5: ３
A6: ４ | B6: 法人役員等名簿 -------------------------------------------------------------------------------------------------------- | C6: ４
B7: 法人本部職員の状況 -------------------------------------ー-------------------------------------------------------------- | C7: ５
A8: ５ | B8: 評議員会の開催状況 ---------------------------------------------------------------------------------------------------- | C8: ６
A9: ６ | B9: 理事会の開催状況 ------------------------------------------------------------------------------------------------------ | C9: ７
A10: ７ | B10: 特定社会福祉法人の内部管理体制の状況 ---------------------------------------------------------------------------------- | C10: ８
A11: ８ | B11: 監事監査の状況 ------------------------------------------------------------------------------------------------------ | C11: ８
A12: ９ | B12: 外部監査の実施状況 ---------------------------------------------------------------------------------------------------- | C12: ９
B13: 会計監査又は専門家による支援の状況 ------------------------------------------------------------------------------------ | C13: ９
A14: １０ | B14: 社会福祉充実計画の策定状況--------------------------------------------------------------------------------------------- | C14: １０
A15: １１ | B15: 法人の定款等の公表状況 ------------------------------------------------------------------------------------------------ | C15: １０
A16: １２ | B16: 規程等の整備状況 ------------------------------------------------------------------------------------------------------ | C16: １０
A17: １３ | B17: サービス向上のための取組 ---------------------------------------------------------------------------------------------- | C17: １１
A18: １４ | B18: 会計組織等の状況 ------------------------------------------------------------------------------------------------------ | C18: １２
A19: １５ | B19: 制度資金の借入金及び償還実績状況 -------------------------------------------------------------------------------------- | C19: １３
B20: 市中銀行等からの借入金及び償還実績状況 -------------------------------------------------------------------------------- | C20: １４
A21: １６ | B21: 施設運営費（措置費）からの民改費管理費加算分相当額等の繰入れの状況 ---------------------------------------------------- | C21: １５
A22: １７ | B22: 法人に対する寄附金（品）の状況 ---------------------------------------------------------------------------------------- | C22: １６
A23: １８ | B23: 法人設立・施設等整備資金の状況 ---------------------------------------------------------------------------------------- | C23: １７
A24: １９ | B24: 法人設立・施設等整備資金の収支の状況 ---------------------------------------------------------------------------------- | C24: １８
A25: ２０ | B25: 法人（全体）の契約の状況 ---------------------------------------------------------------------------------------------- | C25: １９

Sheet (P1)1 法人の概要
A1: １ 法人の概要
A2: (1) 法人設立認可
A4: 認可年月日・番号 | B4: 年 月 日 | D4: 第 号 | G4: 設立登記年月日 | I4: 年 月 日
A6: 資産総額の状況 | B6: 年 月 日 登記（変更） | E6: 登記額 | G6: 円
A8: (2) 定款変更状況 | B8: =+"（"&表紙!R21&"から"&表紙!P17&"まで）" -> （前々年度から検査日の前々月の1日まで）
A10: 年 月 日 | B10: 年 月 日 | D10: 年 月 日 | F10: 年 月 日 | H10: 年 月 日
A11: 第 号 認可（届出） | B11: 第 号 認可（届出） | D11: 第 号 認可（届出） | F11: 第 号 認可（届出） | H11: 第 号 認可（届出）
A12: （主な変更内容） | B12: （主な変更内容） | D12: （主な変更内容） | F12: （主な変更内容） | H12: （主な変更内容）
A18: （注）届出事項についても記載すること。
A20: ２ 法人の行う事業
A22: ① 第１種社会福祉事業
A23: (事業開始年月日) | B23: (施設種別) | D23: (施設名) | F23: (施設長氏名) | H23: (定員)
A24: 年 月 日 | H24: 0
A25: 年 月 日
A29: ② 第２種社会福祉事業
A30: (事業開始年月日) | B30: (事業内容) | D30: (施設名) | F30: (施設長氏名) | H30: (定員)
A31: 年 月 日 | H31: 0
A32: 年 月 日
A36: ③ 公 益 事 業
A37: (事業開始年月日) | B37: (事業内容) | D37: (施設名) | F37: (施設長氏名) | H37: (定員)
A38: 年 月 日 | H38: 0
A42: ④ 収 益 事 業
A43: (事業開始年月日) | B43: (事業内容) | D43: (施設名) | F43: (施設長氏名) | H43: (定員)
A44: 年 月 日 | H44: 0

Sheet (P2)3-1 資産(土地)
A1: ３－１ 資産（土地）の状況 （借地についても記載すること。）
N2: =+表紙!E17 -> 0
A3: 地目 登記簿謄本に より記入 | B3: 所在地 同左 | D3: 用途 基本財産は 定款と符合 | E3: 面積 登記簿謄本・ 定款と符合 | F3: 法人所有 | M3: 借地
F4: 資産区分 | H4: 取得価格 財産目録 と符合 | I4: 所有権移転 登記年月日 | J4: 抵当権設定 （複数の場合は順位別に全部記入） | M4: 所有権者 | N4: 契 約 年月日 | O4: 借用 期間 | P4: 登 記 | Q4: 賃借料
P5: 年月日 | Q5: 年 額
Q6: 本 部
F7: 基本 財産 | G7: その他 | J7: 登記 年月日 | K7: 担保提供先 | L7: 所轄庁承認 年月日 | P7: 賃借権 | Q7: 施 設
P8: 地上権 | Q8: 会 計
Q9: の 別
A10: 1 | E10: ㎡ | H10: 円 | I10: ・ ・ | J10: ・ ・ | L10: ・ ・ | N10: ・ ・ | O10: ・ ・ | Q10: 円
O11: ～ | P11: ・ ・
O12: ・ ・ | P12: （ ） | Q12: （ ）
A13: 2 | I13: ・ ・ | J13: ・ ・ | L13: ・ ・ | N13: ・ ・ | O13: ・ ・
O14: ～ | P14: ・ ・
O15: ・ ・ | P15: （ ） | Q15: （ ）
A16: 3 | E16: 0 | I16: ・ ・ | J16: ・ ・ | L16: ・ ・ | N16: ・ ・ | O16: ・ ・
O17: ～ | P17: ・ ・
O18: ・ ・ | P18: （ ） | Q18: （ ）
A19: 4 | E19: 0 | I19: ・ ・ | J19: ・ ・ | L19: ・ ・ | N19: ・ ・ | O19: ・ ・
O20: ～ | P20: ・ ・
O21: ・ ・ | P21: （ ） | Q21: （ ）
A22: 5 | E22: 0 | I22: ・ ・ | J22: ・ ・ | L22: ・ ・ | N22: ・ ・ | O22: ・ ・
O23: ～ | P23: ・ ・
O24: ・ ・ | P24: （ ） | Q24: （ ）
A25: 6 | E25: 0 | I25: ・ ・ | J25: ・ ・ | L25: ・ ・ | N25: ・ ・ | O25: ・ ・
O26: ～ | P26: ・ ・
O27: ・ ・ | P27: （ ） | Q27: （ ）
A28: 7 | E28: 0 | I28: ・ ・ | J28: ・ ・ | L28: ・ ・ | N28: ・ ・ | O28: ・ ・
O29: ～ | P29: ・ ・
O30: ・ ・ | P30: （ ） | Q30: （ ）
A31: 8 | E31: 0 | I31: ・ ・ | J31: ・ ・ | L31: ・ ・ | N31: ・ ・ | O31: ・ ・
O32: ～ | P32: ・ ・
O33: ・ ・ | P33: （ ） | Q33: （ ）
A34: 9 | E34: 0 | I34: ・ ・ | J34: ・ ・ | L34: ・ ・ | N34: ・ ・ | O34: ・ ・
O35: ～ | P35: ・ ・
O36: ・ ・ | P36: （ ） | Q36: （ ）
A37: 計 | E37: =SUM(E10:E36) -> 0 | H37: =SUM(H10:H36) -> 0
A40: 摘要
D41: ○ 登記簿謄本との相違 | L41: ○ 決算書と符合
D42: ○ 定款との相違 | L42: ○ 契約履行状況
...

Sheet (P3)3-2 資産(建物)
A1: ３－２ 資産（建物）の状況 （借用建物についても記載すること。）
N3: =表紙!E17 -> 0
A4: 用途 （所在市町村名） | D4: 構造 （登記簿謄本による） | F4: 床面積 （同左） | G4: 法人所有 | N4: 借用建物
G5: 資産区分 | I5: 取得価格 財産目録 と符合 | J5: 保存登記 年月日 | K5: 抵当権設定 (複数の場合は順位別に全部記入) | N5: 所有権者 | O5: 契約 年月日 | P5: 借用 期間 | Q5: 賃借料 年 額
G8: 基本 財産 | H8: その他 | K8: 登記 年月日 | L8: 担保提供先 | M8: 所轄庁承認 年月日
A11: 1 | C11: （ ） | F11: ㎡ | I11: 円 | J11: ・ ・ | K11: ・ ・ | M11: ・ ・ | O11: ・ ・ | P11: ・ ・ | Q11: 円
P12: ～
P13: ・ ・
A14: 2 | C14: （ ） | I14: 0 | J14: ・ ・ | K14: ・ ・ | M14: ・ ・ | O14: ・ ・ | P14: ・ ・
P15: ～
P16: ・ ・
A17: 3 | C17: （ ） | I17: 0 | J17: ・ ・ | K17: ・ ・ | M17: ・ ・ | O17: ・ ・ | P17: ・ ・
P18: ～
P19: ・ ・
A20: 4 | C20: （ ） | I20: 0 | J20: ・ ・ | K20: ・ ・ | M20: ・ ・ | O20: ・ ・ | P20: ・ ・
P21: ～
P22: ・ ・
A23: 5 | C23: （ ） | I23: 0 | J23: ・ ・ | K23: ・ ・ | M23: ・ ・ | O23: ・ ・ | P23: ・ ・
P24: ～
P25: ・ ・
A26: 6 | C26: （ ） | I26: 0 | J26: ・ ・ | K26: ・ ・ | M26: ・ ・ | O26: ・ ・ | P26: ・ ・
P27: ～
P28: ・ ・
A29: 7 | C29: （ ） | I29: 0 | J29: ・ ・ | K29: ・ ・ | M29: ・ ・ | O29: ・ ・ | P29: ・ ・
P30: ～
P31: ・ ・
A32: 8 | C32: （ ） | I32: 0 | J32: ・ ・ | K32: ・ ・ | M32: ・ ・ | O32: ・ ・ | P32: ・ ・
P33: ～
P34: ・ ・
A35: 9 | C35: （ ） | I35: 0 | J35: ・ ・ | K35: ・ ・ | M35: ・ ・ | O35: ・ ・ | P35: ・ ・
P36: ～
P37: ・ ・
A38: 計 | F38: =SUM(F11:F37) -> 0
F39: =SUM(F12:F37) -> 0 | I39: =SUM(I12:I37) -> 0
A41: 摘要
E42: ○ 登記簿謄本との相違 | M42: ○ 決算書と符合
E43: ○ 定款との相違 | M43: ○ 契約履行状況
A44: この欄は、法人に おいて記入しない こと。 | E44: ○ 台帳と符合
E45: ○ 財産処分の状況
A47: （注）1.資産区分欄は、該当する欄に○印をつけること。
...

Sheet (P4)4-1 法人役員
A1: ４－１ 法人役員等名簿 | P1: =+表紙!P17&"現在" -> 検査日の前々月の1日現在
P2: 定 数 | Q2: 現 員 | S2: 欠 員
N3: 理 事 | P3: 名 | Q3: 名 | S3: 名
N4: 監 事 | P4: 名 | Q4: 名 | S4: 名
N5: 評 議 員 | P5: 名 | Q5: 名 | S5: 名
A7: 区分 | B7: 氏名 | C7: 生年月日 (満年齢) | D7: 職業 経営企業の 名 称 勤務先等 | E7: 役員の資格等（該当に○） | K7: 役員報酬 (年間支払額) | L7: 住所 | M7: 現在の任期 自年月日 至年月日 | N7: 当初の就任 年月日 | P7: 親族又は特殊 関係者 (氏名と続柄） | Q7: 選任関係書類 | T7: 社会福祉 事業の 経験年数
E8: 学 識 経験者 | F8: 地域の 福 祉 関係者 | G8: 地域 代表 | H8: 施設長等 | I8: その他 | J8: 財務
N9: 役員とし ての通算 年 月 | Q9: 就任承諾書 | R9: 履 | S9: 委
R10: 歴 | S10: 嘱
R11: 書 | S11: 状
C12: ・ ・ | K12: 円 | M12: ・ ・ | N12: ・ ・ | Q12: 有・無 | R12: 有・無 | S12: 有・無
C13: ( 歳) | M13: ・ ・ | N13: ( 年 | O13: 月）
C14: ・ ・ | M14: ・ ・ | N14: ・ ・ | Q14: 有・無 | R14: 有・無 | S14: 有・無
C15: ( 歳) | M15: ・ ・ | N15: ( 年 | O15: 月）
C16: ・ ・ | M16: ・ ・ | N16: ・ ・ | Q16: 有・無 | R16: 有・無 | S16: 有・無
C17: ( 歳) | M17: ・ ・ | N17: ( 年 | O17: 月）
C18: ・ ・ | M18: ・ ・ | N18: ・ ・ | Q18: 有・無 | R18: 有・無 | S18: 有・無
C19: ( 歳) | M19: ・ ・ | N19: ( 年 | O19: 月）
C20: ・ ・ | M20: ・ ・ | N20: ・ ・ | Q20: 有・無 | R20: 有・無 | S20: 有・無
C21: ( 歳) | M21: ・ ・ | N21: ( 年 | O21: 月）
C22: ・ ・ | M22: ・ ・ | N22: ・ ・ | Q22: 有・無 | R22: 有・無 | S22: 有・無
C23: ( 歳) | M23: ・ ・ | N23: ( 年 | O23: 月）
C24: ・ ・ | M24: ・ ・ | N24: ・ ・ | Q24: 有・無 | R24: 有・無 | S24: 有・無
C25: ( 歳) | M25: ・ ・ | N25: ( 年 | O25: 月）
C26: ・ ・ | M26: ・ ・ | N26: ・ ・ | Q26: 有・無 | R26: 有・無 | S26: 有・無
C27: ( 歳) | M27: ・ ・ | N27: ( 年 | O27: 月）
C28: ・ ・ | M28: ・ ・ | N28: ・ ・ | Q28: 有・無 | R28: 有・無 | S28: 有・無
C29: ( 歳) | M29: ・ ・ | N29: ( 年 | O29: 月）
C30: ・ ・ | M30: ・ ・ | N30: ・ ・ | Q30: 有・無 | R30: 有・無 | S30: 有・無
C31: ( 歳) | M31: ・ ・ | N31: ( 年 | O31: 月）
C32: ・ ・ | M32: ・ ・ | N32: ・ ・ | Q32: 有・無 | R32: 有・無 | S32: 有・無
C33: ( 歳) | M33: ・ ・ | N33: ( 年 | O33: 月）
C34: ・ ・ | M34: ・ ・ | N34: ・ ・ | Q34: 有・無 | R34: 有・無 | S34: 有・無
C35: ( 歳) | M35: ・ ・ | N35: ( 年 | O35: 月）
C36: ・ ・ | M36: ・ ・ | N36: ・ ・ | Q36: 有・無 | R36: 有・無 | S36: 有・無
C37: ( 歳) | M37: ・ ・ | N37: ( 年 | O37: 月）
C38: ・ ・ | M38: ・ ・ | N38: ・ ・ | Q38: 有・無 | R38: 有・無 | S38: 有・無
C39: ( 歳) | M39: ・ ・ | N39: ( 年 | O39: 月）
C40: ・ ・ | M40: ・ ・ | N40: ・ ・ | Q40: 有・無 | R40: 有・無 | S40: 有・無
C41: ( 歳) | M41: ・ ・ | N41: ( 年 | O41: 月）
...

Sheet (P5)4-2法人本部 職員
A1: ４－２ 法人本部職員の状況（顧問等を含む）
M2: =表紙!E17 -> 0
A3: 職種 | B3: 氏名 | C3: 性別 | D3: 年令 | E3: 採用年月日 | F3: 勤続年数 | G3: 年・月・週・日 時給の別 | H3: 単価 | J3: 勤務形態 | K3: 配置目的(必要性等)
F4: =IF(E4="","",DATEDIF(E4,$M$2,"y"))
F5: =IF(E5="","",DATEDIF(E5,$M$2,"y"))
F6: =IF(E6="","",DATEDIF(E6,$M$2,"y"))
F7: =IF(E7="","",DATEDIF(E7,$M$2,"y"))
F8: =IF(E8="","",DATEDIF(E8,$M$2,"y"))
F9: =IF(E9="","",DATEDIF(E9,$M$2,"y"))
F10: =IF(E10="","",DATEDIF(E10,$M$2,"y"))
F11: =IF(E11="","",DATEDIF(E11,$M$2,"y"))
F12: =IF(E12="","",DATEDIF(E12,$M$2,"y"))
F13: =IF(E13="","",DATEDIF(E13,$M$2,"y"))
F14: =IF(E14="","",DATEDIF(E14,$M$2,"y"))
F15: =IF(E15="","",DATEDIF(E15,$M$2,"y"))
... F29: =IF(E29="","",DATEDIF(E29,$M$2,"y"))

Sheet (P6)５ 評議員会
A1: ５ 評議員会の開催状況
I2: =+表紙!Q19&"４月からの開催状況" -> ＿＿年４月からの開催状況
A3: 開催年月日 (開催通知年月日) | C3: 出席した 評議員数 | D3: 欠席評議員 氏 名 | E3: 監事出席 の有無 (出席者氏名) | F3: 議案名
I4: １ 開催通知
I5: ア 書面により事前に開催通知をしているか | K5: いる ・ いない
I6: イ 議案書を事前送付しているか | K6: いる ・ いない
I8: ２ 審議の状況
I9: ア 議事録は整備保管されているか | K9: いる ・ いない
I10: イ 議事録に次の事項が記載されているか
I11: ○ 開催日時 | K11: いる ・ いない
I12: ○ 開催場所 | K12: いる ・ いない
I13: ○ 議事の経過の要領及びその結果 | K13: いる ・ いない
I14: ○ 決議事項について特別の利害関係を有する評議員の氏名 | K14: いる ・ いない
I15: ○ 法の規定に基づき述べられた意見・発言内容の概要 | K15: いる ・ いない
I16: ○ 出席者氏名又は名称（評議員、理事、監事又は会計監査人） | K16: いる ・ いない
I17: ○ 議長の氏名（議長が存する場合） | K17: いる ・ いない
I18: ○ 議事録作成者氏名 | K18: いる ・ いない
I19: ○ 署名人の署名（記名押印） | K19: いる ・ いない
I24: 摘 要 （この欄は、法人において記入しないこと。）
I26: ○ 評議員会の開催状況
I31: ○ 欠席評議員の状況
I36: ○ 議事録の状況
A45: （注）1.開催年月日の下に（ ）書きで開催通知年月日を記入すること。
A46: 2.直近の開催状況まで記入すること。

Sheet (P7)６ 理事会
A1: ６ 理事会の開催状況
I2: =+表紙!Q19&"４月からの開催状況" -> ＿＿年４月からの開催状況
A3: 開催年月日 (開催通知年月日) | C3: 出席した 理事数 | D3: 欠席理事氏名 | E3: 監事出席 の有無 (出席者氏名) | F3: 議案名
I4: １ 開催通知
I5: ア 書面により事前に開催通知をしているか | K5: いる ・ いない
I6: イ 議案書を事前送付しているか | K6: いる ・ いない
I8: ２ 審議の状況
I9: ア 議事録は整備保管されているか | K9: いる ・ いない
I10: イ 議事録に次の事項が記載されているか
I11: ○ 開催日時 | K11: いる ・ いない
I12: ○ 開催場所 | K12: いる ・ いない
I13: ○ 招集権者以外の理事又は監事が招集請求等した場合その旨 | K13: いる ・ いない
I14: ○ 議事の経過の要領及びその結果 | K14: いる ・ いない
I15: ○ 決議事項について特別の利害関係を有する理事の氏名 | K15: いる ・ いない
I16: ○ 法の規定に基づく理事・監事の意見・発言内容の概要 | K16: いる ・ いない
I17: ○ 理事長（議事録署名人と定款で規定）以外の出席理事の氏名 | K17: いる ・ いない
I18: ○ 理事会に出席した会計監査人の氏名又は名称 | K18: いる ・ いない
I19: ○ 議長の氏名（議長が存する場合） | K19: いる ・ いない
I20: ○ 署名人の署名（記名押印） | K20: いる ・ いない
I22: ３ みなし決議（決議の省略）を行っているか | K22: いる ・ いない
I25: 摘 要 （この欄は、法人において記入しないこと。）
I27: ○ 理事会の開催状況
I32: ○ 欠席理事の状況
I37: ○ 議事録の状況
A45: （注）1.開催年月日の下に（ ）書きで開催通知年月日を記入すること。
A46: 2.直近の開催状況まで記入すること。

Sheet (P8)７ 内部管理体制，８ 監事等の状況
A2: ７ 特定社会福祉法人の内部管理体制の状況
A4: 決 定 事 項 | I4: 理事会決定年月日 | J4: 体制等の状況（策定した規程等）
A5: ① | B5: 理事の職務の執行に係る情報の保存及び管理に関する体制 | I5: 年 月 日
A6: ② | B6: 損失の危機の管理に関する規程その他の体制 | I6: 年 月 日
A7: ③ | B7: 理事の職務の執行が効率的に行われることを確保するための体制 | I7: 年 月 日
A8: ④ | B8: 職員の職務の執行が法令及び定款に適合することを確保するための体制 | I8: 年 月 日
A9: ⑤ | B9: 監事がその職務を補助すべき職員を置くことを求めた場合における当該職員に関する事項 | I9: 年 月 日
A10: ⑥ | B10: ⑤の職員の理事からの独立性に関する事項 | I10: 年 月 日
A11: ⑦ | B11: 監事の⑤の職員に対する指示の実効性の確保に関する事項 | I11: 年 月 日
A12: ⑧ | B12: 理事及び職員が監事に報告をするための体制その他の監事への報告に関する体制 | I12: 年 月 日
A13: ⑨ | B13: ⑧の報告をした者が当該報告をしたことを理由として不利な取扱いを受けないことを確保するための体制 | I13: 年 月 日
A14: ⑩ | B14: 監事の職務の執行について生ずる費用の前払又は償還の手続その他の当該職務の執行について生ずる費用又は債務の処理に係る方針に関する事項 | I14: 年 月 日
A15: ⑪ | B15: その他監事の監査が実効的に行われることを確保するための体制 | I15: 年 月 日
A19: ８ 監 事 監 査 の 状 況 | F19: =+"（"&表紙!Q19&"４月以降）" -> （＿＿年４月以降）
A21: 監査年月日 | D21: 決算理事会（決算報告） | F21: 所轄庁への | G21: 監査結果の内容及び指示・指摘事項 | K21: 改善状況
D22: 開催年月日 | E22: 監事出席の有無 | F22: 報 告 | K22: 済・未 | L22: 改善内容又は今後の計画
A26: 年 月 日 | D26: 年 月 日 | E26: 有・無 | F26: 有・無
F27: ( 年 月 日）
A33: 年 月 日 | D33: 年 月 日 | E33: 有・無 | F33: 有・無
F34: ( 年 月 日）
A37: （注）1.監査報告書（写）を添付すること。
A38: 2.改善状況には、監査結果の指示・指摘事項に対する改善状況を記入すること。

Sheet (P9)９－１外部監査，９－２会計監査
A1: =+"９－１ 外部監査の実施状況（"&表紙!R21&"～"&表紙!P17&"まで）" -> ９－１ 外部監査の実施状況（前々年度～検査日の前々月の1日まで）
A3: 実施の有無 | E3: 有 ・ 無
A5: 実 施 内 容 | C5: 実 施 機 関
C6: 実 施 項 目
C9: 実 施 結 果
A12: （注）実施結果には、主な指摘事項やそれに対する改善状況を記入すること。 次項「９－２ 会計監査又は専門家による支援の状況」に該当する監査等は除くこと。
A14: =+"９－２ 会計監査又は専門家による支援の状況 （"&表紙!P19&"）" -> ９－２ 会計監査又は専門家による支援の状況 （＿＿年度）
A15: 実 施 の 有 無 | C15: 有 ・ 無 | F15: 実 施 内 容
A16: 会 計 監 査 | B16: □会計監査人による監査 | D16: □会計監査人 | F16: 実施機関 | K16: 実施年度 | L16: 年度
D17: □設置義務法人 | F17: 作成書類 | G17: □独立監査人の監査報告書 □監査実施概要及び監査結果の説明書
D18: ※令和２年度決算額
D19: 収益 ． 億円
D20: 負債 ． 億円
D21: □定款の定めによる 設置法人 | F21: 結 果 | G21: □無限定適正意見 □除外事項を付した限定付適正意見 □不適正意見
B23: □会計監査人による監査に準ず る監査 | D23: □公認会計士
D24: □監査法人
A25: 専門家による支援 | B25: □財務会計に関する内部統制の 向上に対する支援 | D25: □公認会計士 | F25: 実施機関 | K25: 実施年度 | L25: 年度
D26: □監査法人 | F26: 作成書類 | G26: □財務会計に関する内部統制の向上に対する支援業務実施報告書 □財務会計に関する事務処理体制の向上に対する支援業務実施報告書
B29: □財務会計に関する事務処理体 制の向上に対する支援 | D29: □公認会計士 | F29: 結 果
D30: □監査法人
D31: □税理士
D32: □税理士法人
A33: （注） 1.該当する□にチェックすること。
A34: 2.会計監査の結果には、監査実施概要及び監査結果説明書に記載の概要並びに特定監事等への通知等の状況を記入すること。
A35: 3.専門家による支援の結果には、発見された課題及びその改善提案報告の内容、又は支援項目の確認及びその所見の内容を記入すること。
A36: 4.表内の作成書類の写しを添付すること。

Sheet (P10)１０社会福祉充実計画 １１情報開示,１２規程整備
A1: =+"１０ 社会福祉充実計画の策定状況（"&表紙!P19&"）" -> １０ 社会福祉充実計画の策定状況（＿＿年度）
A2: 事業期間 | B2: 社会福祉充実残額 | D2: 計 画 内 容 | J2: 実 施 状 況
A3: 年 月 日～ 年 月 日 | B3: 円
A10: 注）計画内容、実施状況は、その内容が分かるよう記入すること。
A13: １１ 法人の定款等の公表状況
A14: 公 表 項 目 | C14: 公表の有無 | E14: 公 表 の 方 法
A15: 定 款 | C15: 有 ・ 無 | E15: １ インターネット（ 法人ホームページ ・ 全国経営協ホームページ ・ ＷＡＭネット ） ２ その他（ ）
A16: 役員報酬等の支給の基準 | C16: 有 ・ 無 | E16: １ インターネット（ 法人ホームページ ・ 全国経営協ホームページ ・ ＷＡＭネット ） ２ その他（ ）
A17: 役 員 等 名 簿 | C17: 有 ・ 無 | E17: １ インターネット（ 法人ホームページ ・ 全国経営協ホームページ ・ ＷＡＭネット ） ２ その他（ ）
A18: 計 算 書 類 | C18: 有 ・ 無 | E18: １ インターネット（ 法人ホームページ ・ 全国経営協ホームページ ・ ＷＡＭネット ） ２ その他（ ）
A19: 現 況 報 告 書 | C19: 有 ・ 無 | E19: １ インターネット（ 法人ホームページ ・ 全国経営協ホームページ ・ ＷＡＭネット ） ２ その他（ ）
A20: 苦情解決の取組実績 | C20: 有 ・ 無 | E20: １ インターネット（ 法人ホームページ ・ 全国経営協ホームページ ・ ＷＡＭネット ） ２ その他（ ）
A22: （注）該当する公表方法の番号を○で囲むこと。その他の場合は具体的に記入すること。
A25: １２ 規程等の整備状況
A26: 区 分 | C26: 整備の状況 | E26: =+表紙!P19&" 改正の有無" -> ＿＿年度 改正の有無 | G26: 改 正 の 主 な 内 容 等
A27: 定 款 施 行 細 則 | C27: 有 ・ 無 | E27: 有 ・ 無
A28: 経 理 規 程 | C28: 有 ・ 無 | E28: 有 ・ 無
A29: 経 理 規 程 細 則 | C29: 有 ・ 無 | E29: 有 ・ 無
A30: 役 員 報 酬 規 程 | C30: 有 ・ 無 | E30: 有 ・ 無
A31: 事 務 処 理 規 程 | C31: 有 ・ 無 | E31: 有 ・ 無

Sheet (P11)１３法人の事業
A1: =+"１３ サービス向上のための取組（"&表紙!P19&"）" -> １３ サービス向上のための取組（＿＿年度） | I1: 施設名：
A3: ① 地域における公益的な取組（制度外の地域ニーズを把握した公益的な事業・活動） | H3: ａ．取り組んでいる ｂ．取り組んでいない
A8: ② サービスの質の評価（自己評価，第三者評価の受審）、ＩＳＯ９００１の認証取得 | H8: ａ．実施している ｂ．実施していない
A13: ③ 苦情解決の仕組み及び取組 | H13: ａ．実施している ｂ．実施していない
A15: 苦 情 解 決 体 制 | D15: 苦 情 解 決 責 任 者 | F15: 役職（ ） 氏名（ ）
D16: 苦 情 受 付 担 当 者 | F16: 役職（ ） 氏名（ ）
D17: 第 三 者 委 員 | F17: 役職（ ） 氏名（ ）
F18: 役職（ ） 氏名（ ）
A19: 苦 情 解 決 の 手 順 | B19: 周 知 | D19: 利 用 者 へ の 周 知 | F19: １ 施設内掲示 ２ パンフレット ３ ホームページ ４ （ ）
B20: 苦 情 受 付 | D20: 苦 情 受 付 の 記 録 | F20: 有 ・ 無 | G20: （＿＿年度の件数： | J20: 件）
D21: 第三者委員報告（苦情内容） | F21: 有 ・ 無 | G21: （＿＿年度の件数： | J21: 件）
D22: 第 三 者 委 員 の 助 言 | F22: 有 ・ 無 | G22: （＿＿年度の件数： | J22: 件）
B23: 苦 情 解 決 | D23: 苦 情 解 決 の 記 録 | F23: 有 ・ 無 | G23: （＿＿年度の件数： | J23: 件）
D24: 第三者委員報告（解決結果） | F24: 有 ・ 無 | G24: （＿＿年度の件数： | J24: 件）
D25: 解 決 結 果 の 公 表 | F25: １ ホームページ ２ 事業報告書 ３ 広報誌等 ４ その他（ ） ５ 公表していない
A26: ※「解決結果の公表」については、件数だけでなく、苦情相談・解決の概要（個人情報は不公表）についても公表すること。

Sheet (P12)１４会計組織等
A1: １４ 会 計 組 織 等 の 状 況
J2: =+表紙!P17&"現在" -> 検査日の前々月の1日現在
A3: （１） 法人の会計組織 | F3: 事業区分 | G3: 拠点区分 | H3: サービス区分 | I3: 会計責任者 | J3: 出納職員
F4: 社会福祉事業
F10: 公益事業
F12: 収益事業
F14: (注）. 経理規程で定める事業区分、拠点区分及びサービス区分並びに理事長から任命されている会計責任者及び出納職員について記載すること。 （次の記載例を参照し、法人の実態に合わせれて適宜行を増やすなど加工して下さい。別紙に記載することも可。）
A17: （２） 法人の経理事務の統括会計責任者を置いている場合には、その職と氏名を次に記載すること。
B19: 統括会計責任者 職 氏 名 名
A23: 【記載例】
A24: (1) 社会福祉事業区分 | F24: 事業区分 | G24: 拠点区分 | H24: サービス区分 | I24: 会計責任者 | J24: 出納職員
A25: ① 法人本部拠点区分 | F25: 社会福祉事業 | G25: 法人本部 | I25: 職氏名○○○ ○○○○ | J25: 職氏名○○○ ○○○○
A26: ② Ａ拠点区分 | G26: Ａ拠点 | I26: 職氏名○○○ ○○○○ | J26: 職氏名○○○ ○○○○
A27: ア 特別養護老人ホーム○○園 | H27: 特別養護老人ホーム○○園 | I27: －
A28: イ デイサービスセンター○○○ | H28: デイサービスセンター○○○ | I28: －
A29: ウ 居宅介護支援センター○○○ | H29: 居宅介護支援○○○ | I29: － | J29: 職氏名○○○ ○○○○
A30: ③ Ｂ拠点区分 | G30: Ｂ拠点 | I30: 職氏名○○○ ○○○○ | J30: 職氏名○○○ ○○○○
A31: ア ○○○保育園 | H31: ○○○保育園 | I31: －
A32: ④ Ｃ拠点区分 | G32: Ｃ拠点 | I32: 職氏名○○○ ○○○○ | J32: 職氏名○○○ ○○○○
A33: ア ○○○児童養護施設 | H33: ○○○児童養護施設 | I33: －
A34: (2) 公益事業区分 | F34: 公益事業 | G34: Ｄ拠点 | I34: 職氏名○○○ ○○○○ | J34: 職氏名○○○ ○○○○
A35: ① Ｄ拠点区分
A36: ア 有料老人ホーム○○○ | H36: 有料老人ホーム○○○ | I36: － | J36: 職氏名○○○ ○○○○
A37: (3) 収益事業区分 | F37: 収益事業 | G37: Ｅ拠点 | I37: 職氏名○○○ ○○○○ | J37: 職氏名○○○ ○○○○
A38: ① Ｅ拠点区分
A39: ア ××××× | H39: ××× | I39: － | J39: 職氏名○○○ ○○○○

Sheet (P13)1５制度資金借入金
B1: =+"１５－１ 制度資金の借入金及び償還実績状況（"&表紙!R21&"～"&表紙!R19&"） ～単年度借入金を含む～" -> １５－１ 制度資金の借入金及び償還実績状況（前々年度～前年度） ～単年度借入金を含む～
C3: 単 年 度 借 入 金 | G3: 有 ・ 無
R4: =+表紙!Q20&"3月31日現在" -> ＿＿年3月31日現在
C5: 借入先 | Q5: 合計
C6: 借入年月日 | G6: 年 月 日 | J6: 年 月 日 | M6: 年 月 日
C7: 約定年利率 | G7: ％ | J7: ％ | M7: ％
C8: 借入期間 （償還期間） | G8: . . ～ . . | J8: . . ～ . . | M8: . . ～ . .
G9: （ 年据置 . . ～ . . ） | J9: （ 年据置 . . ～ . . ） | M9: （ 年据置 . . ～ . . ）
C10: 借入目的
C11: 償還財源
C12: 担保物件
C13: 理事会の承認の有無 | G13: 有 ・ 無 | J13: 有 ・ 無 | M13: 有 ・ 無
D14: 借入額Ａ | G14: 元金 | H14: 利子 | I14: 計 | J14: 元金 | K14: 利子 | L14: 計 | M14: 元金 | N14: 利子 | O14: 計 | Q14: 元金 | R14: 利子 | T14: 計
G15: 円 | H15: 円 | I15: 円 | J15: 円 | K15: 円 | L15: 円 | M15: 円 | N15: 円 | P15: 円 | Q15: 円 | S15: 円 | T15: 円
I16: =G16+H16 -> 0
B17: 償還状況 | D17: =+表紙!R21&"分 の実績" -> 前々年度分 の実績 | E17: 要償還額 Ｂ | I17: =G17+H17 -> 0 | L17: =J17+K17 -> 0 | O17: =M17+N17 -> 0 | Q17: =G17+J17+M17 -> 0 | R17: =H17+K17+N17 -> 0 | T17: =Q17+R17 -> 0
E18: 償還済額 Ｃ | I18: =G18+H18 -> 0 | L18: =J18+K18 -> 0 | O18: =M18+N18 -> 0 | Q18: =G18+J18+M18 -> 0 | R18: =H18+K18+N18 -> 0 | T18: =Q18+R18 -> 0
E19: 滞 納 額 Ｂ－Ｃ＝Ｄ | G19: =G17-G18 -> 0 | H19: =H17-H18 -> 0 | I19: =I17-I18 -> 0 | J19: =J17-J18 -> 0 | K19: =K17-K18 -> 0 | L19: =L17-L18 -> 0 | M19: =M17-M18 -> 0 | N19: =N17-N18 -> 0 | O19: =M19+N19 -> 0 | Q19: =G19+J19+M20 -> 0 | R19: =H19+K19+N20 -> 0 | T19: =Q19+R19 -> 0
D21: =+表紙!R19&"分 の実績" -> 前年度分 の実績 | E21: 要償還額 Ｅ | Q21: =G21+J21+M21 -> 0 | R21: =H21+K21+N21 -> 0 | T21: =Q21+R21 -> 0
E22: 償還済額 Ｆ | Q22: =G22+J22+M22 -> 0 | R22: =H22+K22+N22 -> 0 | T22: =Q22+R22 -> 0
E23: 滞 納 額 Ｅ－Ｆ＝Ｇ | G23: =G21-G22 -> 0 | H23: =H21-H22 -> 0 | I23: =I21-I22 -> 0 | J23: =J21-J22 -> 0 | K23: =K21-K22 -> 0 | L23: =L21-L22 -> 0 | M23: =M21-M22 -> 0 | N23: =N21-N22 -> 0 | O23: =O21-O22 -> 0 | Q23: =G23+J23+M23 -> 0 | R23: =H23+K23+N24 -> 0 | T23: =Q23+R23 -> 0
D24: =+表紙!R19&" までの実績" -> 前年度 までの実績 | E24: 要償還額 Ｈ | I24: =G24+H24 -> 0 | L24: =J24+K24 -> 0 | O24: =M24+N24 -> 0 | Q24: =G24+J24+M24 -> 0 | R24: =H24+K24+N24 -> 0 | T24: =Q24+R24 -> 0
E25: 償還済額 Ｉ | I25: =G25+H25 -> 0 | L25: =J25+K25 -> 0 | O25: =M25+N25 -> 0 | Q25: =G25+J25+M25 -> 0 | R25: =H25+K25+N25 -> 0 | T25: =Q25+R25 -> 0
E26: 滞 納 額 Ｈ－Ｉ＝Ｊ | G26: =G24-G25 -> 0 | H26: =H24-H25 -> 0 | I26: =I24-I25 -> 0 | J26: =J24-J25 -> 0 | K26: =K24-K25 -> 0 | L26: =L24-L25 -> 0 | M26: =M24-M25 -> 0 | N26: =N24-N25 -> 0 | O26: =M26+N26 -> 0 | Q26: =G26+J26+M27 -> 0 | R26: 0 | T26: 0
C28: 未償還額 Ａ－Ｉ＝Ｋ | G28: =G16-G25 -> 0 | H28: =H16-H25 -> 0 | I28: =G28+H28 -> 0 | J28: =J16-J25 -> 0 | K28: =K16-K25 -> 0 | L28: =J28+K28 -> 0 | M28: =M16-M25 -> 0 | N28: =N16-N25 -> 0 | O28: =M28+N28 -> 0 | Q28: =G28+J28+M28 -> 0 | R28: =H28+K28+N28 -> 0 | T28: =Q28+R28 -> 0
B29: 摘要 | E29: この欄は、法人において | Q29: Ｃ欄･Ｆ欄の合計額の内訳 | S29: 金額（円）
E30: 記入しないこと。 | Q30: 充当財源名
C31: ○ 償還財源は、計画どおりか | P31: =+表紙!R21&"分実績" -> 前々年度分実績
C32: ○ 納期までに納入しているか
C33: ○ 滞納の理由と対策
C34: ○ 理事会の承認を得ているか（財源の変更等） | P34: =+表紙!R19&"分実績" -> 前年度分実績
C35: =+"○ "&表紙!R21&"・"&表紙!R19&"の実績は適当か" -> ○ 前々年度・前年度の実績は適当か
Q37: 計 | S37: =SUM(S31:T36) -> 0
B38: （注）１ 充当財源名及び金額の欄には、県社協補助、役員寄付、一般寄付、民改費繰入れ等に区分して記入すること。
B39: =+" ２ "&表紙!R19&"に一般検査を実施した法人・施設は、"&表紙!R21&"分の作成は不要であること。" -> ２ 前年度に一般検査を実施した法人・施設は、前々年度分の作成は不要であること。

Sheet (P14）１５-２市中銀行借入金
B1: =+"１５－２ 市中銀行等からの借入金及び償還実績状況（"&表紙!R21&"～"&表紙!R19&"）～単年度借入金を含む～" -> １５－２ 市中銀行等からの借入金及び償還実績状況（前々年度～前年度）～単年度借入金を含む～
C3: 単 年 度 借 入 金 | G3: 有 ・ 無
R4: =+表紙!Q20&"3月31日現在" -> ＿＿年3月31日現在
C5: 借入先 | Q5: 合計
C6: 借入年月日 | G6: 年 月 日 | J6: 年 月 日 | M6: 年 月 日
C7: 約定年利率 | G7: ％ | J7: ％ | M7: ％
C8: 借入期間 （償還期間） | G8: . . ～ . . | J8: . . ～ . . | M8: . . ～ . .
G9: （ 年据置 . . ～ . . ） | J9: （ 年据置 . . ～ . . ） | M9: （ 年据置 . . ～ . . ）
C10: 借入目的
C11: 償還財源
C12: 担保物件
C13: 理事会の承認の有無 | G13: 有 ・ 無 | J13: 有 ・ 無 | M13: 有 ・ 無
D14: 借入額Ａ | G14: 元金 | H14: 利子 | I14: 計 | J14: 元金 | K14: 利子 | L14: 計 | M14: 元金 | N14: 利子 | O14: 計 | Q14: 元金 | R14: 利子 | T14: 計
G15: 円 | H15: 円 | I15: 円 | J15: 円 | K15: 円 | L15: 円 | M15: 円 | N15: 円 | P15: 円 | Q15: 円 | S15: 円 | T15: 円
I16: =G16+H16 -> 0
B17: 償還状況 | D17: =+表紙!R21&"分 の実績" -> 前々年度分 の実績 | E17: 要償還額 Ｂ | I17: =G17+H17 -> 0 | L17: =J17+K17 -> 0 | O17: =M17+N17 -> 0 | Q17: =G17+J17+M17 -> 0 | R17: =H17+K17+N17 -> 0 | T17: =Q17+R17 -> 0
E18: 償還済額 Ｃ | I18: =G18+H18 -> 0 | L18: =J18+K18 -> 0 | O18: =M18+N18 -> 0 | Q18: =G18+J18+M18 -> 0 | R18: =H18+K18+N18 -> 0 | T18: =Q18+R18 -> 0
E19: 滞 納 額 Ｂ－Ｃ＝Ｄ | G19: =G17-G18 -> 0 | H19: =H17-H18 -> 0 | I19: =I17-I18 -> 0 | J19: =J17-J18 -> 0 | K19: =K17-K18 -> 0 | L19: =L17-L18 -> 0 | M19: =M17-M18 -> 0 | N19: =N17-N18 -> 0 | O19: =M19+N19 -> 0 | Q19: =G19+J19+M20 -> 0 | R19: =H19+K19+N20 -> 0 | T19: =Q19+R19 -> 0
D21: =+表紙!R19&"分 の実績" -> 前年度分 の実績 | E21: 要償還額 Ｅ | Q21: =G21+J21+M21 -> 0 | R21: =H21+K21+N21 -> 0 | T21: =Q21+R21 -> 0
E22: 償還済額 Ｆ | Q22: =G22+J22+M22 -> 0 | R22: =H22+K22+N22 -> 0 | T22: =Q22+R22 -> 0
E23: 滞 納 額 Ｅ－Ｆ＝Ｇ | G23: =G21-G22 -> 0 | H23: =H21-H22 -> 0 | I23: =I21-I22 -> 0 | J23: =J21-J22 -> 0 | K23: =K21-K22 -> 0 | L23: =L21-L22 -> 0 | M23: =M21-M22 -> 0 | N23: =N21-N22 -> 0 | O23: =O21-O22 -> 0 | Q23: =G23+J23+M23 -> 0 | R23: =H23+K23+N24 -> 0 | T23: =Q23+R23 -> 0
D24: =+表紙!R19&" までの実績" -> 前年度 までの実績 | E24: 要償還額 Ｈ | I24: =G24+H24 -> 0 | L24: =J24+K24 -> 0 | O24: =M24+N24 -> 0 | Q24: =G24+J24+M24 -> 0 | R24: =H24+K24+N24 -> 0 | T24: =Q24+R24 -> 0
E25: 償還済額 Ｉ | I25: =G25+H25 -> 0 | L25: =J25+K25 -> 0 | O25: =M25+N25 -> 0 | Q25: =G25+J25+M25 -> 0 | R25: =H25+K25+N25 -> 0 | T25: =Q25+R25 -> 0
E26: 滞 納 額 Ｈ－Ｉ＝Ｊ | G26: =G24-G25 -> 0 | H26: =H24-H25 -> 0 | I26: =I24-I25 -> 0 | J26: =J24-J25 -> 0 | K26: =K24-K25 -> 0 | L26: =L24-L25 -> 0 | M26: =M24-M25 -> 0 | N26: =N24-N25 -> 0 | O26: =M26+N26 -> 0 | Q26: =G26+J26+M27 -> 0 | R26: 0 | T26: 0
C28: 未償還額 Ａ－Ｉ＝Ｋ | G28: =G16-G25 -> 0 | H28: =H16-H25 -> 0 | I28: =G28+H28 -> 0 | J28: =J16-J25 -> 0 | K28: =K16-K25 -> 0 | L28: =J28+K28 -> 0 | M28: =M16-M25 -> 0 | N28: =N16-N25 -> 0 | O28: =M28+N28 -> 0 | Q28: =G28+J28+M28 -> 0 | R28: =H28+K28+N28 -> 0 | T28: =Q28+R28 -> 0
B29: 摘要 | E29: この欄は、法人において | Q29: C欄・F欄の合計額の内訳 | S29: 金額（円）
E30: 記入しないこと。 | Q30: 充当財源名
C31: ○ 償還財源は、計画どおりか | P31: ２９年度分実績
C32: ○ 納期までに納入しているか
C33: ○ 滞納の理由と対策
C34: ○ 理事会の承認を得ているか（財源の変更等） | P34: ３０年度分実績
C35: =+"○ "&表紙!R21&"・"&表紙!R19&"の実績は適当か" -> ○ 前々年度・前年度の実績は適当か
Q37: 計 | S37: =SUM(S31:T36) -> 0
B38: （注）１．充当財源名及び金額の欄には、県社協補助、役員寄付、一般寄付、民改費繰入れ等に区分して記入すること。
B39: =+" ２．"&表紙!R19&"に一般検査を実施した法人・施設は、"&表紙!R21&"分の作成は不要であること。" -> ２．前年度に一般検査を実施した法人・施設は、前々年度分の作成は不要であること。

Sheet (P15)１６民改費 
B1: １６ 施設運営費（措置費）からの民改費管理費加算分相当額等の繰入れの状況
E2: （措置費対象支弁施設（通知別表２）のみ記入） | AX2: 〇 措置費支弁対象施設（運営費の運用通知別表２）
C3: (1) 措置費収入、運用収入別の繰入額の状況 | AT3: =+表紙!P19 -> ＿＿年度 | AX3: １ 生活保護法による「保護施設」
C4: 施設名 | AX4: ２ 身体障害者福祉法による「視聴覚障害者情報提供施設」
C5: ①措置費収入からの民改費 管理費加算分相当繰入額 | R5: 円 | Y5: 円 | AF5: 円 | AM5: 円 | AT5: 円 | AX5: ３ 老人福祉法による「養護老人ホーム」
C6: ②運用収入からの繰入額 | R6: 円 | Y6: 円 | AF6: 円 | AM6: 円 | AT6: 円 | AX6: ４ 困難女性支援法による「女性自立支援施設」
C7: 合計 | L7: =SUM(L5:Q6) -> 0 | R7: 円 | S7: =SUM(S5:X6) -> 0 | Y7: 円 | Z7: =SUM(Z5:AE6) -> 0 | AF7: 円 | AG7: =SUM(AG5:AL6) -> 0 | AM7: 円 | AN7: =SUM(AN5:AS6) -> 0 | AT7: 円 | AX7: ５ 児童福祉法による「児童福祉施設（除く保育所）」
AX8: ・児童自立生活援助事業を行う「自立援助ホーム」
C9: (2) 繰入金の使途内容及び使途別繰入額の状況 | AT9: =+AT3 -> ＿＿年度 | AX9: ・小規模住居型児童養育事業を行う「ファミリーホーム」
C10: 施設名
C11: ①措置費収入から充当した額 | E11: （使途内容）
E12: 当該施設等の整備等に充当した額 | R12: 円 | Y12: 円 | AF12: 円 | AM12: 円 | AT12: 円
E14: その他（ ） | R14: 円 | Y14: 円 | AF14: 円 | AM14: 円 | AT14: 円
E15: 充当額計 | L15: =SUM(L12:Q14) -> 0 | R15: 円 | S15: =SUM(S12:X14) -> 0 | Y15: 円 | Z15: =SUM(Z12:AE14) -> 0 | AF15: 円 | AG15: =SUM(AG12:AL14) -> 0 | AM15: 円 | AN15: =SUM(AN12:AS14) -> 0 | AT15: 円
C16: ②運用収入から充当した額 | E16: （使途内容）
E17: 当該施設等の整備等に充当した額 | R17: 円 | Y17: 円 | AF17: 円 | AM17: 円 | AT17: 円
E18: 法人本部の運営経費 | R18: 円 | Y18: 円 | AF18: 円 | AM18: 円 | AT18: 円 | AX18: 摘 要 （この欄は法人において記入しないこと。）
E19: 第一種社会福祉事業及び第二種社会福祉事業の運営経費 | R19: 円 | Y19: 円 | AF19: 円 | AM19: 円 | AT19: 円 | AX19: ○措置費収入からの民改費管理費加算分相当繰入金、運用収 入からの繰入金は対象経費に充当されているか。
E20: 同一法人が運営する公益事業の運営経費 | R20: 円 | Y20: 円 | AF20: 円 | AM20: 円 | AT20: 円
E21: その他（ ） | R21: 円 | Y21: 円 | AF21: 円 | AM21: 円 | AT21: 円
E22: 充当額計 | L22: =SUM(L17:Q21) -> 0 | R22: 円 | S22: =SUM(S17:X21) -> 0 | Y22: 円 | Z22: =SUM(Z17:AE21) -> 0 | AF22: 円 | AG22: =SUM(AG17:AL21) -> 0 | AM22: 円 | AN22: =SUM(AN17:AS21) -> 0 | AT22: 円 | AX22: 〇繰入限度額を超過していないか。
C23: 合 計 | L23: =L15+L22 -> 0 | R23: 円 | S23: =S15+S22 -> 0 | Y23: 円 | Z23: =Z15+Z22 -> 0 | AF23: 円 | AG23: =AG15+AG22 -> 0 | AM23: 円 | AN23: =AN15+AN22 -> 0 | AT23: 円
D24: (注)該当する項目に充当額を記載すること。
D25: (注)｢当該施設等の整備等に充当した額｣は、貴法人が運営する施設の建物、設備の整備・修繕、環境の改善等に要する経費(借入金の償 還金及びその利息を含む。)に充当した額とする。

Sheet (P16)1７寄附金
B1: =+"１７ 法人に対する寄附金（品）の状況（"&表紙!R21&"～"&表紙!R19&"）" -> １７ 法人に対する寄附金（品）の状況（前々年度～前年度）
B2: (1) 寄附の状況 | J2: （2) 寄附金関係帳簿等の整備状況
M3: =+表紙!P19 -> ＿＿年度
B4: 受領年月日 | C4: 寄附金額（円） | D4: 寄附者氏名 | E4: 法人・施設との関係 | F4: 寄附の目的 | G4: 備考 | K4: 帳簿等 | M4: 整備状況
B5: （寄附金） | K5: 寄附金台帳 | M5: 有 ・ 無
K6: 寄附申込書 | M6: 有 ・ 無
K7: 寄附受領書(控) | M7: 有 ・ 無
J8: （注） 上記関係帳簿等の整備の有無について○印をつけ ること。
B19: （寄附物品）
B24: 計
B25: 摘要 | C25: この欄は、法人において
C26: 記入しないこと。
B27: ○ 贈与契約とおり寄附の履行がなされているか
B28: ○ 贈与契約とおり履行されていない場合の理由及び今後の履行
B30: =+"（注）1.寄附物品については、「備考」欄に物品名（固定資産として計上されるものに限る。）を記載すること。 2.「法人・施設との関係」欄は、役員・職員・入所者・家族・遺族・取引業者等と記載すること。 3.寄附者が多人数の場合は、別紙とすること。 4."&表紙!R19&"に一般検査を実施した法人・施設は、"&表紙!R21&"分の作成は不要であること。" -> （注）1.寄附物品については、「備考」欄に物品名（固定資産として計上されるものに限る。）を記載すること。 2.「法人・施設との関係」欄は、役員・職員・入所者・家族・遺族・取引業者等と記載すること。 3.寄附者が多人数の場合は、別紙とすること。 4.前年度に一般検査を実施した法人・施設は、前々年度分の作成は不要であること。

Sheet (P17)1８整備資金状況
B1: =+"１８ 法人設立・施設等整備資金の状況（"&表紙!R21&"～"&表紙!R19&"）" -> １８ 法人設立・施設等整備資金の状況（前々年度～前年度）
B2: 収入 | M2: 支出
B3: 事業計画と実績 | D3: 収入先 | F3: 申請額 (A) | H3: 実績 (B) | K3: 比較増減 (B-A) | M3: 支出先 | O3: 認可申請額(A) | Q3: 実績 (B) | R3: 比較増減 (B-A)
G4: 円 | J4: 円 | L4: 円 | P4: 円 | Q4: 円 | R4: 円
D5: 地方公共団体補助金 | K5: =H5-F5 -> 0 | M5: 施 設 整 備 | R5: =Q5-O5 -> 0
D6: 公益事業補助金 | K6: =H6-F6 -> 0 | M6: 設 備 整 備 | R6: =Q6-O6 -> 0
D7: 寄附金 | K7: =H7-F7 -> 0 | R7: =Q7-O7 -> 0
K8: =H8-F8 -> 0 | R8: =Q8-O8 -> 0
K9: =H9-F9 -> 0 | R9: =Q9-O9 -> 0
K10: =H10-F10 -> 0 | R10: =Q10-O10 -> 0
C11: 合計 | F11: =SUM(F5:G10) -> 0 | H11: =SUM(H5:J10) -> 0 | K11: =SUM(K5:L10) -> 0 | M11: 合計 | O11: =SUM(O5:P10) -> 0 | Q11: =SUM(Q5:Q10) -> 0 | R11: =SUM(R5:R10) -> 0
B12: 摘 要（この欄は、法人において記入しないこと。）
D13: ○理事会の審議状況 ○計画変更の状況 ○贈与契約の履行状況 ○運用財産保有の状況
D15: ○決算書と符合 | G15: ○評議員会の審議状況
B17: 施設・設備整備の契約 | D17: 契約内容 | G17: 契約業者名 | J17: 契約形態 | L17: 設計(見積)額 | N17: 契約額 | P17: 摘 要（この欄は、法人において記入しないこと。）
D18: 設計・施工管理 | J18: 入札 ・ 随意 | P18: ○業者選定の状況
D19: 建築工事 | J19: 入札 ・ 随意 | P19: ○契約の状況
J20: 入札 ・ 随意 | P20: ○仕様書の状況
J21: 入札 ・ 随意 | P21: ○検査（検収）の状況
J22: 入札 ・ 随意 | P22: ○取得資産の管理状況
J23: 入札 ・ 随意 | P23: ○書類の整理保管の状況
J24: 入札 ・ 随意
J25: 入札 ・ 随意
C26: 合計 | L26: =SUM(L18:M25) -> 0 | N26: =SUM(N18:O25) -> 0
B27: （注）１ | D27: =+表紙!R21&"以降設立された法人（新規施設）が行った施設等の整備について記入すること。" -> 前々年度以降設立された法人（新規施設）が行った施設等の整備について記入すること。
B28: ２ | D28: =+表紙!R21&"までに設立された法人（既存施設）は、"&表紙!R21&"～"&表紙!R19&"中に行った500万円を超える施設等の整備についてのみ記入すること。" -> 前々年度までに設立された法人（既存施設）は、前々年度～前年度中に行った500万円を超える施設等の整備についてのみ記入すること。
B29: ３ | D29: =+表紙!R19&"に一般検査を実施した法人・施設は，"&表紙!R19&"分の作成は不要であること。" -> 前年度に一般検査を実施した法人・施設は，前年度分の作成は不要であること。

Sheet (P18)1９整備資金収支状況
B1: =+"１９ 法人設立・施設等整備資金の収支の状況（"&表紙!R21&"～"&表紙!R19&"）" -> １９ 法人設立・施設等整備資金の収支の状況（前々年度～前年度）
B3: 収 入 | G3: 支 出
B4: No. | C4: 収入先 | D4: 年月日 | E4: 収入金額 | F4: 備考 | G4: No. | H4: 支払先 | I4: 年月日 | J4: 支払金額 | K4: 支払方法
E5: 円 | J5: 円
B22: 合計 | E22: =SUM(E6:E21) -> 0 | G22: 合計 | J22: =SUM(J6:J21) -> 0
B23: 摘 要（この欄は、法人において記入しないこと。）
C24: ○預金通帳の状況 ○支払方法の状況 ○納品書・請求書の状況 ○領収証の状況
B26: （注）１．収入及び支出とも相手先（収入先・支出先）ごとに、まとめて時系列で記入すること。
B27: =+" ２．"&表紙!R19&"に一般検査を実施した法人・施設は、"&表紙!R21&"分の作成は不要であること。" -> ２．前年度に一般検査を実施した法人・施設は、前々年度分の作成は不要であること。

Sheet (P19)２０契約
B1: =+"２０ 法人（全体）の契約の状況（"&表紙!R21&"～"&表紙!R19&"）" -> ２０ 法人（全体）の契約の状況（前々年度～前年度）
B2: (1) 増・改築及び修繕工事
B3: 工事名（修繕箇所） | C3: 施工業者名 | D3: 契約の方法 | E3: 契約年月日 | F3: 入札（見積）業者数 | G3: 予定価格 | H3: 請負価格 | J3: 理事会等の審議状況 | K3: 役員との関係
F4: 者 | K4: 有 ・ 無
B9: =+"（注）1.予定価格が250万円以上のものについて記入すること。 2.「契約の方法」欄は、一般競争契約、指名競争契約、随意契約のいずれかで記入すること。 3.「理事会等の審議状況」欄は、理事会等の日時、契約方法等についての審議内容を簡略に記入すること。 4.「見積業者数」は、随意契約の場合に記入すること。 5."&表紙!R19&"に一般検査を実施した法人・施設は，"&表紙!R21&"分の作成は不要であること。" -> （注）1.予定価格が250万円以上のものについて記入すること。 2.「契約の方法」欄は、一般競争契約、指名競争契約、随意契約のいずれかで記入すること。 3.「理事会等の審議状況」欄は、理事会等の日時、契約方法等についての審議内容を簡略に記入すること。 4.「見積業者数」は、随意契約の場合に記入すること。 5.前年度に一般検査を実施した法人・施設は，前々年度分の作成は不要であること。
B11: (2) 物品等の購入
B12: 購入物品名 | C12: 納入業者名 | D12: 契約の方法 | E12: 契約年月日 | F12: 入札（見積）業者数 | G12: 予定価格 | H12: 購入価格 | J12: 理事会等の審議状況 | K12: 役員との関係
F13: 者 | K13: 有 ・ 無
B19: =+"（注）1.予定価格が160万円以上のものについて記入すること。 2.「契約の方法」欄は、一般競争契約、指名競争契約、随意契約のいずれかで記入すること。 3.「理事会等の審議状況」欄は、理事会等の日時、契約方法等についての審議内容を簡略に記入すること。 4.「見積業者数」は、随意契約の場合に記入すること。 5."&表紙!R19&"に一般検査を実施した法人・施設は、"&表紙!R21&"分の作成は不要であること。" -> （注）1.予定価格が160万円以上のものについて記入すること。 2.「契約の方法」欄は、一般競争契約、指名競争契約、随意契約のいずれかで記入すること。 3.「理事会等の審議状況」欄は、理事会等の日時、契約方法等についての審議内容を簡略に記入すること。 4.「見積業者数」は、随意契約の場合に記入すること。 5.前年度に一般検査を実施した法人・施設は、前々年度分の作成は不要であること。
B21: (3) 業務委託等の状況
B22: 委託業務内容 | C22: 契約の方法 | D22: 委託先 | F22: 委託期間及び契約金額 | J22: 理事会等の審議状況 | K22: 役員との関係
K23: 有 ・ 無
B31: =+"（注）1.予定価格（単価契約の場合は年間委託契約見込額）が100万円以上のものについて記入すること。 2.「契約の方法」欄は、一般競争契約、指名競争契約、随意契約のいずれかで記入すること。 3.「理事会等の審議状況」欄は、理事会等の日時、契約方法等についての審議内容を簡略に記入すること。 4.複数年以上にわたり継続して同一の業者に同一の業務を委託している場合は、継続して契約する理由等を「理事会等の審議状況の欄」に記載すること。 5."&表紙!R19&"に一般検査を実施した法人・施設は、"&表紙!R21&"分の作成は不要であること。" -> （注）1.予定価格（単価契約の場合は年間委託契約見込額）が100万円以上のものについて記入すること。 2.「契約の方法」欄は、一般競争契約、指名競争契約、随意契約のいずれかで記入すること。 3.「理事会等の審議状況」欄は、理事会等の日時、契約方法等についての審議内容を簡略に記入すること。 4.複数年以上にわたり継続して同一の業者に同一の業務を委託している場合は、継続して契約する理由等を「理事会等の審議状況の欄」に記載すること。 5.前年度に一般検査を実施した法人・施設は、前々年度分の作成は不要であること。
